BEGIN:VCALENDAR
VERSION:2.0
PRODID:-//Diocèse de Viviers - ECPv5.16.4//NONSGML v1.0//EN
CALSCALE:GREGORIAN
METHOD:PUBLISH
X-ORIGINAL-URL:https://ardeche.catholique.fr
X-WR-CALDESC:évènements pour Diocèse de Viviers
REFRESH-INTERVAL;VALUE=DURATION:PT1H
X-Robots-Tag:noindex
X-PUBLISHED-TTL:PT1H
BEGIN:VTIMEZONE
TZID:Europe/Paris
BEGIN:DAYLIGHT
TZOFFSETFROM:+0100
TZOFFSETTO:+0200
TZNAME:CEST
DTSTART:20260329T010000
END:DAYLIGHT
BEGIN:STANDARD
TZOFFSETFROM:+0200
TZOFFSETTO:+0100
TZNAME:CET
DTSTART:20261025T010000
END:STANDARD
END:VTIMEZONE
BEGIN:VEVENT
DTSTART;TZID=Europe/Paris:20260512T000000
DTEND;TZID=Europe/Paris:20260512T235959
DTSTAMP:20260421T201742
CREATED:20250909T115238Z
LAST-MODIFIED:20250909T115238Z
UID:1418702-1778544000-1778630399@ardeche.catholique.fr
SUMMARY:Journée des 5ème-4ème de l'enseignement catholique
DESCRIPTION:Partagez cet article sur votre réseau !\n		FacebookTwitterLinkedInWhatsAppPinterestEmail
URL:https://ardeche.catholique.fr/date/journee-des-5eme-4eme-de-lenseignement-catholique/
END:VEVENT
END:VCALENDAR