BEGIN:VCALENDAR
VERSION:2.0
PRODID:-//Diocèse de Viviers - ECPv5.16.4//NONSGML v1.0//EN
CALSCALE:GREGORIAN
METHOD:PUBLISH
X-WR-CALNAME:Diocèse de Viviers
X-ORIGINAL-URL:https://ardeche.catholique.fr
X-WR-CALDESC:évènements pour Diocèse de Viviers
REFRESH-INTERVAL;VALUE=DURATION:PT1H
X-Robots-Tag:noindex
X-PUBLISHED-TTL:PT1H
BEGIN:VTIMEZONE
TZID:Europe/Paris
BEGIN:DAYLIGHT
TZOFFSETFROM:+0100
TZOFFSETTO:+0200
TZNAME:CEST
DTSTART:20260329T010000
END:DAYLIGHT
BEGIN:STANDARD
TZOFFSETFROM:+0200
TZOFFSETTO:+0100
TZNAME:CET
DTSTART:20261025T010000
END:STANDARD
END:VTIMEZONE
BEGIN:VEVENT
DTSTART;TZID=Europe/Paris:20260606T100000
DTEND;TZID=Europe/Paris:20260606T170000
DTSTAMP:20260425T123628
CREATED:20260202T141904Z
LAST-MODIFIED:20260202T141905Z
UID:1419497-1780740000-1780765200@ardeche.catholique.fr
SUMMARY:Vente de livres régionaux d'occasion
DESCRIPTION:Vente de livres régionaux d’occasion à la Maison diocésaine Charles de Foucauld\, à Viviers. \n\n\n\n\n\n\n\n\n\n\n\n\n\n\n	\n		Partagez cet article sur votre réseau !\n		FacebookTwitterLinkedInWhatsAppPinterestEmail
URL:https://ardeche.catholique.fr/date/vente-de-livres-regionaux-doccasion/
ATTACH;FMTTYPE=image/png:https://ardeche.catholique.fr/app/uploads/2026/02/VENTE-DE-LIVRES-2.png
END:VEVENT
END:VCALENDAR